BEGIN:VCALENDAR
VERSION:2.0
PRODID:-//StreamRadar//Match Calendar//EN
CALSCALE:GREGORIAN
METHOD:PUBLISH
X-WR-CALNAME:Sassuolo vs Genoa
X-WR-TIMEZONE:America/New_York
BEGIN:VEVENT
UID:match-5620206@streamradar.soccer
SUMMARY:Sassuolo vs Genoa
DTSTAMP:20260424T121528Z
DTSTART;TZID=America/New_York:20260502T090000
DTEND;TZID=America/New_York:20260502T110000
LOCATION:Stadio Enzo Ricci
DESCRIPTION:Serie A (kadınlar) içinde Sassuolo vs Genoa nereden izlenir. 
 Canlı yayın ve TV programı.\nhttps://streamradar.soccer/tr/match/5620206
 /sassuolo-vs-genoa/
URL;VALUE=URI:https://streamradar.soccer/tr/match/5620206/sassuolo-vs-genoa
 /
STATUS:CONFIRMED
END:VEVENT
END:VCALENDAR
