BEGIN:VCALENDAR
VERSION:2.0
PRODID:-//StreamRadar//Match Calendar//EN
CALSCALE:GREGORIAN
METHOD:PUBLISH
X-WR-CALNAME:Valtti vs EPS
X-WR-TIMEZONE:America/New_York
BEGIN:VEVENT
UID:match-5619555@streamradar.soccer
SUMMARY:Valtti vs EPS
DTSTAMP:20260423T150517Z
DTSTART;TZID=America/New_York:20260429T090000
DTEND;TZID=America/New_York:20260429T110000
LOCATION:Puotilan tekonurmi (Helsinki)
DESCRIPTION:Suomen Cup içinde Valtti vs EPS nereden izlenir. Canlı yayın
  ve TV programı.\nhttps://streamradar.soccer/tr/match/5619555/valtti-vs-ep
 s/
URL;VALUE=URI:https://streamradar.soccer/tr/match/5619555/valtti-vs-eps/
STATUS:CONFIRMED
END:VEVENT
END:VCALENDAR
