BEGIN:VCALENDAR
VERSION:2.0
PRODID:-//StreamRadar//Match Calendar//EN
CALSCALE:GREGORIAN
METHOD:PUBLISH
X-WR-CALNAME:SJK Akatemia vs OLS
X-WR-TIMEZONE:America/New_York
BEGIN:VEVENT
UID:match-5619553@streamradar.soccer
SUMMARY:SJK Akatemia vs OLS
DTSTAMP:20260423T123413Z
DTSTART;TZID=America/New_York:20260429T090000
DTEND;TZID=America/New_York:20260429T110000
LOCATION:OmaSp Stadion
DESCRIPTION:Suomen Cup içinde SJK Akatemia vs OLS nereden izlenir. Canlı 
 yayın ve TV programı.\nhttps://streamradar.soccer/tr/match/5619553/sjk-ak
 atemia-vs-ols/
URL;VALUE=URI:https://streamradar.soccer/tr/match/5619553/sjk-akatemia-vs-o
 ls/
STATUS:CONFIRMED
END:VEVENT
END:VCALENDAR
