BEGIN:VCALENDAR
VERSION:2.0
PRODID:-//StreamRadar//Match Calendar//EN
CALSCALE:GREGORIAN
METHOD:PUBLISH
X-WR-CALNAME:Mara Sugar vs Gor Mahia
X-WR-TIMEZONE:America/New_York
BEGIN:VEVENT
UID:match-5618129@streamradar.soccer
SUMMARY:Mara Sugar vs Gor Mahia
DTSTAMP:20260421T120406Z
DTSTART;TZID=America/New_York:20260523T080000
DTEND;TZID=America/New_York:20260523T100000
DESCRIPTION:Kenya Premier League içinde Mara Sugar vs Gor Mahia nereden iz
 lenir. Canlı yayın ve TV programı.\nhttps://streamradar.soccer/tr/match/
 5618129/mara-sugar-vs-gor-mahia/
URL;VALUE=URI:https://streamradar.soccer/tr/match/5618129/mara-sugar-vs-gor
 -mahia/
STATUS:CONFIRMED
END:VEVENT
END:VCALENDAR
