BEGIN:VCALENDAR
VERSION:2.0
PRODID:-//StreamRadar//Match Calendar//EN
CALSCALE:GREGORIAN
METHOD:PUBLISH
X-WR-CALNAME:Club Brugge vs Gent
X-WR-TIMEZONE:America/New_York
BEGIN:VEVENT
UID:match-5618056@streamradar.soccer
SUMMARY:Club Brugge vs Gent
DTSTAMP:20260421T100002Z
DTSTART;TZID=America/New_York:20260524T123000
DTEND;TZID=America/New_York:20260524T143000
LOCATION:Jan Breydel Stadion
DESCRIPTION:Pro League içinde Club Brugge vs Gent nereden izlenir. Canlı 
 yayın ve TV programı.\nhttps://streamradar.soccer/tr/match/5618056/club-b
 rugge-vs-gent/
URL;VALUE=URI:https://streamradar.soccer/tr/match/5618056/club-brugge-vs-ge
 nt/
STATUS:CONFIRMED
END:VEVENT
END:VCALENDAR
