BEGIN:VCALENDAR
VERSION:2.0
PRODID:-//StreamRadar//Match Calendar//EN
CALSCALE:GREGORIAN
METHOD:PUBLISH
X-WR-CALNAME:Anderlecht vs Sint-Truiden
X-WR-TIMEZONE:America/New_York
BEGIN:VEVENT
UID:match-5618053@streamradar.soccer
SUMMARY:Anderlecht vs Sint-Truiden
DTSTAMP:20260421T112314Z
DTSTART;TZID=America/New_York:20260521T143000
DTEND;TZID=America/New_York:20260521T163000
LOCATION:Lotto Park
DESCRIPTION:Pro League içinde Anderlecht vs Sint-Truiden nereden izlenir. 
 Canlı yayın ve TV programı.\nhttps://streamradar.soccer/tr/match/5618053
 /anderlecht-vs-sint-truiden/
URL;VALUE=URI:https://streamradar.soccer/tr/match/5618053/anderlecht-vs-sin
 t-truiden/
STATUS:CONFIRMED
END:VEVENT
END:VCALENDAR
