BEGIN:VCALENDAR
VERSION:2.0
PRODID:-//StreamRadar//Match Calendar//EN
CALSCALE:GREGORIAN
METHOD:PUBLISH
X-WR-CALNAME:Gandzasar vs Noah
X-WR-TIMEZONE:America/New_York
BEGIN:VEVENT
UID:match-5616870@streamradar.soccer
SUMMARY:Gandzasar vs Noah
DTSTAMP:20260419T121802Z
DTSTART;TZID=America/New_York:20260506T110000
DTEND;TZID=America/New_York:20260506T130000
LOCATION:Stadion Gandzasar
DESCRIPTION:Ermenistan Premier Ligi içinde Gandzasar vs Noah nereden izlen
 ir. Canlı yayın ve TV programı.\nhttps://streamradar.soccer/tr/match/561
 6870/gandzasar-vs-noah/
URL;VALUE=URI:https://streamradar.soccer/tr/match/5616870/gandzasar-vs-noah
 /
STATUS:CONFIRMED
END:VEVENT
END:VCALENDAR
