BEGIN:VCALENDAR
VERSION:2.0
PRODID:-//StreamRadar//Match Calendar//EN
CALSCALE:GREGORIAN
METHOD:PUBLISH
X-WR-CALNAME:Septemvri Sofia vs Spartak Varna
X-WR-TIMEZONE:America/New_York
BEGIN:VEVENT
UID:match-5616833@streamradar.soccer
SUMMARY:Septemvri Sofia vs Spartak Varna
DTSTAMP:20260419T123809Z
DTSTART;TZID=America/New_York:20260513T110000
DTEND;TZID=America/New_York:20260513T130000
DESCRIPTION:Parva Liga içinde Septemvri Sofia vs Spartak Varna nereden izl
 enir. Canlı yayın ve TV programı.\nhttps://streamradar.soccer/tr/match/5
 616833/septemvri-sofia-vs-spartak-varna/
URL;VALUE=URI:https://streamradar.soccer/tr/match/5616833/septemvri-sofia-v
 s-spartak-varna/
STATUS:CONFIRMED
END:VEVENT
END:VCALENDAR
