BEGIN:VCALENDAR
VERSION:2.0
PRODID:-//StreamRadar//Match Calendar//EN
CALSCALE:GREGORIAN
METHOD:PUBLISH
X-WR-CALNAME:CSKA Sofia vs Ludogorets
X-WR-TIMEZONE:America/New_York
BEGIN:VEVENT
UID:match-5616807@streamradar.soccer
SUMMARY:CSKA Sofia vs Ludogorets
DTSTAMP:20260419T121748Z
DTSTART;TZID=America/New_York:20260502T110000
DTEND;TZID=America/New_York:20260502T130000
LOCATION:National Stadium Vasil Levski
DESCRIPTION:Parva Liga içinde CSKA Sofia vs Ludogorets nereden izlenir. Ca
 nlı yayın ve TV programı.\nhttps://streamradar.soccer/tr/match/5616807/c
 ska-sofia-vs-ludogorets/
URL;VALUE=URI:https://streamradar.soccer/tr/match/5616807/cska-sofia-vs-lud
 ogorets/
STATUS:CONFIRMED
END:VEVENT
END:VCALENDAR
