BEGIN:VCALENDAR
VERSION:2.0
PRODID:-//StreamRadar//Match Calendar//EN
CALSCALE:GREGORIAN
METHOD:PUBLISH
X-WR-CALNAME:HolbÃ¦k B&I vs Odder
X-WR-TIMEZONE:America/New_York
BEGIN:VEVENT
UID:match-5616310@streamradar.soccer
SUMMARY:HolbÃ¦k B&I vs Odder
DTSTAMP:20260421T080020Z
DTSTART;TZID=America/New_York:20260516T070000
DTEND;TZID=America/New_York:20260516T090000
DESCRIPTION:3. division iÃ§inde HolbÃ¦k B&I vs Odder nereden izlenir. CanlÄ
 ± yayÄ±n ve TV programÄ±.\nhttps://streamradar.soccer/tr/match/5616310/holb
 ak-b-i-vs-odder/
URL;VALUE=URI:https://streamradar.soccer/tr/match/5616310/holbak-b-i-vs-odd
 er/
STATUS:CONFIRMED
END:VEVENT
END:VCALENDAR
