BEGIN:VCALENDAR
VERSION:2.0
PRODID:-//StreamRadar//Match Calendar//EN
CALSCALE:GREGORIAN
METHOD:PUBLISH
X-WR-CALNAME:Winterthur II vs Collina d'Oro
X-WR-TIMEZONE:America/New_York
BEGIN:VEVENT
UID:match-5616221@streamradar.soccer
SUMMARY:Winterthur II vs Collina d'Oro
DTSTAMP:20260421T062843Z
DTSTART;TZID=America/New_York:20260517T090000
DTEND;TZID=America/New_York:20260517T110000
DESCRIPTION:1. Liga Klasik içinde Winterthur II vs Collina D'Oro nereden i
 zlenir. Canlı yayın ve TV programı.\nhttps://streamradar.soccer/tr/match
 /5616221/winterthur-ii-vs-collina-doro/
URL;VALUE=URI:https://streamradar.soccer/tr/match/5616221/winterthur-ii-vs-
 collina-doro/
STATUS:CONFIRMED
END:VEVENT
END:VCALENDAR
