BEGIN:VCALENDAR
VERSION:2.0
PRODID:-//StreamRadar//Match Calendar//EN
CALSCALE:GREGORIAN
METHOD:PUBLISH
X-WR-CALNAME:PAS Mates vs Beau Bassin
X-WR-TIMEZONE:America/New_York
BEGIN:VEVENT
UID:match-5616086@streamradar.soccer
SUMMARY:PAS Mates vs Beau Bassin
DTSTAMP:20260421T104439Z
DTSTART;TZID=America/New_York:20260419T100000
DTEND;TZID=America/New_York:20260419T120000
DESCRIPTION:Mauritian League içinde PAS Mates vs Beau Bassin nereden izlen
 ir. Canlı yayın ve TV programı.\nhttps://streamradar.soccer/tr/match/561
 6086/pas-mates-vs-beau-bassin/
URL;VALUE=URI:https://streamradar.soccer/tr/match/5616086/pas-mates-vs-beau
 -bassin/
STATUS:CONFIRMED
END:VEVENT
END:VCALENDAR
