BEGIN:VCALENDAR
VERSION:2.0
PRODID:-//StreamRadar//Match Calendar//EN
CALSCALE:GREGORIAN
METHOD:PUBLISH
X-WR-CALNAME:NÃ¦sby vs BrÃ¸nshÃ¸j
X-WR-TIMEZONE:America/New_York
BEGIN:VEVENT
UID:match-5615562@streamradar.soccer
SUMMARY:NÃ¦sby vs BrÃ¸nshÃ¸j
DTSTAMP:20260421T092130Z
DTSTART;TZID=America/New_York:20260516T080000
DTEND;TZID=America/New_York:20260516T100000
LOCATION:ALPI Arena Naesby
DESCRIPTION:3. division iÃ§inde NÃ¦sby vs BrÃ¸nshÃ¸j nereden izlenir. CanlÄ
 ± yayÄ±n ve TV programÄ±.\nhttps://streamradar.soccer/tr/match/5615562/nasb
 y-vs-bronshoj/
URL;VALUE=URI:https://streamradar.soccer/tr/match/5615562/nasby-vs-bronshoj
 /
STATUS:CONFIRMED
END:VEVENT
END:VCALENDAR
