BEGIN:VCALENDAR
VERSION:2.0
PRODID:-//StreamRadar//Match Calendar//EN
CALSCALE:GREGORIAN
METHOD:PUBLISH
X-WR-CALNAME:RetrÃ´ vs DecisÃ£o
X-WR-TIMEZONE:America/New_York
BEGIN:VEVENT
UID:match-5615416@streamradar.soccer
SUMMARY:RetrÃ´ vs DecisÃ£o
DTSTAMP:20260421T075925Z
DTSTART;TZID=America/New_York:20260516T160000
DTEND;TZID=America/New_York:20260516T180000
LOCATION:Arena Pernambuco
DESCRIPTION:Serie D iÃ§inde RetrÃ´ vs DecisÃ£o nereden izlenir. CanlÄ± yayÄ
 ±n ve TV programÄ±.\nhttps://streamradar.soccer/tr/match/5615416/retro-vs-d
 ecisao/
URL;VALUE=URI:https://streamradar.soccer/tr/match/5615416/retro-vs-decisao/
STATUS:CONFIRMED
END:VEVENT
END:VCALENDAR
