BEGIN:VCALENDAR
VERSION:2.0
PRODID:-//StreamRadar//Match Calendar//EN
CALSCALE:GREGORIAN
METHOD:PUBLISH
X-WR-CALNAME:Mixto vs Goiatuba EC
X-WR-TIMEZONE:America/New_York
BEGIN:VEVENT
UID:match-5615403@streamradar.soccer
SUMMARY:Mixto vs Goiatuba EC
DTSTAMP:20260421T092145Z
DTSTART;TZID=America/New_York:20260516T160000
DTEND;TZID=America/New_York:20260516T180000
DESCRIPTION:Serie D içinde Mixto vs Goiatuba EC nereden izlenir. Canlı ya
 yın ve TV programı.\nhttps://streamradar.soccer/tr/match/5615403/mixto-vs
 -goiatuba-ec/
URL;VALUE=URI:https://streamradar.soccer/tr/match/5615403/mixto-vs-goiatuba
 -ec/
STATUS:CONFIRMED
END:VEVENT
END:VCALENDAR
