BEGIN:VCALENDAR
VERSION:2.0
PRODID:-//StreamRadar//Match Calendar//EN
CALSCALE:GREGORIAN
METHOD:PUBLISH
X-WR-CALNAME:Blumenau vs Marcílio Dias
X-WR-TIMEZONE:America/New_York
BEGIN:VEVENT
UID:match-5615387@streamradar.soccer
SUMMARY:Blumenau vs Marcílio Dias
DTSTAMP:20260421T080810Z
DTSTART;TZID=America/New_York:20260516T160000
DTEND;TZID=America/New_York:20260516T180000
DESCRIPTION:Serie D içinde Blumenau vs Marcílio Dias nereden izlenir. Can
 lı yayın ve TV programı.\nhttps://streamradar.soccer/tr/match/5615387/bl
 umenau-vs-marcilio-dias/
URL;VALUE=URI:https://streamradar.soccer/tr/match/5615387/blumenau-vs-marci
 lio-dias/
STATUS:CONFIRMED
END:VEVENT
END:VCALENDAR
