BEGIN:VCALENDAR
VERSION:2.0
PRODID:-//StreamRadar//Match Calendar//EN
CALSCALE:GREGORIAN
METHOD:PUBLISH
X-WR-CALNAME:AmÃ©rica RJ vs Madureira
X-WR-TIMEZONE:America/New_York
BEGIN:VEVENT
UID:match-5615384@streamradar.soccer
SUMMARY:AmÃ©rica RJ vs Madureira
DTSTAMP:20260421T080800Z
DTSTART;TZID=America/New_York:20260516T160000
DTEND;TZID=America/New_York:20260516T180000
DESCRIPTION:Serie D iÃ§inde AmÃ©rica RJ vs Madureira nereden izlenir. CanlÄ
 ± yayÄ±n ve TV programÄ±.\nhttps://streamradar.soccer/tr/match/5615384/amer
 ica-rj-vs-madureira/
URL;VALUE=URI:https://streamradar.soccer/tr/match/5615384/america-rj-vs-mad
 ureira/
STATUS:CONFIRMED
END:VEVENT
END:VCALENDAR
