BEGIN:VCALENDAR
VERSION:2.0
PRODID:-//StreamRadar//Match Calendar//EN
CALSCALE:GREGORIAN
METHOD:PUBLISH
X-WR-CALNAME:Kalsdorf vs Dietach
X-WR-TIMEZONE:America/New_York
BEGIN:VEVENT
UID:match-5615372@streamradar.soccer
SUMMARY:Kalsdorf vs Dietach
DTSTAMP:20260421T080006Z
DTSTART;TZID=America/New_York:20260516T130000
DTEND;TZID=America/New_York:20260516T150000
DESCRIPTION:Regionalliga iÃ§inde Kalsdorf vs Dietach nereden izlenir. CanlÄ
 ± yayÄ±n ve TV programÄ±.\nhttps://streamradar.soccer/tr/match/5615372/kals
 dorf-vs-dietach/
URL;VALUE=URI:https://streamradar.soccer/tr/match/5615372/kalsdorf-vs-dieta
 ch/
STATUS:CONFIRMED
END:VEVENT
END:VCALENDAR
