BEGIN:VCALENDAR
VERSION:2.0
PRODID:-//StreamRadar//Match Calendar//EN
CALSCALE:GREGORIAN
METHOD:PUBLISH
X-WR-CALNAME:Montreal Roses vs Vancouver Rise
X-WR-TIMEZONE:America/New_York
BEGIN:VEVENT
UID:match-5614396@streamradar.soccer
SUMMARY:Montreal Roses vs Vancouver Rise
DTSTAMP:20260420T082959Z
DTSTART;TZID=America/New_York:20260502T190000
DTEND;TZID=America/New_York:20260502T210000
DESCRIPTION:Northern Super League içinde Montreal Roses vs Vancouver Rise 
 nereden izlenir. Canlı yayın ve TV programı.\nhttps://streamradar.soccer
 /tr/match/5614396/montreal-roses-vs-vancouver-rise/
URL;VALUE=URI:https://streamradar.soccer/tr/match/5614396/montreal-roses-vs
 -vancouver-rise/
STATUS:CONFIRMED
END:VEVENT
END:VCALENDAR
