BEGIN:VCALENDAR
VERSION:2.0
PRODID:-//StreamRadar//Match Calendar//EN
CALSCALE:GREGORIAN
METHOD:PUBLISH
X-WR-CALNAME:Hørsholm-Usserød vs Vanløse
X-WR-TIMEZONE:America/New_York
BEGIN:VEVENT
UID:match-5613184@streamradar.soccer
SUMMARY:Hørsholm-Usserød vs Vanløse
DTSTAMP:20260421T050822Z
DTSTART;TZID=America/New_York:20260502T070000
DTEND;TZID=America/New_York:20260502T090000
DESCRIPTION:3. division içinde Hørsholm-Usserød vs Vanløse nereden izle
 nir. Canlı yayın ve TV programı.\nhttps://streamradar.soccer/tr/match/56
 13184/horsholm-usserod-vs-vanlose/
URL;VALUE=URI:https://streamradar.soccer/tr/match/5613184/horsholm-usserod-
 vs-vanlose/
STATUS:CONFIRMED
END:VEVENT
END:VCALENDAR
