BEGIN:VCALENDAR
VERSION:2.0
PRODID:-//StreamRadar//Match Calendar//EN
CALSCALE:GREGORIAN
METHOD:PUBLISH
X-WR-CALNAME:AB vs NÃ¦stved
X-WR-TIMEZONE:America/New_York
BEGIN:VEVENT
UID:match-5612725@streamradar.soccer
SUMMARY:AB vs NÃ¦stved
DTSTAMP:20260421T054710Z
DTSTART;TZID=America/New_York:20260424T130000
DTEND;TZID=America/New_York:20260424T150000
LOCATION:Gladsaxe Stadion (SÃ¸borg)
DESCRIPTION:Danimarka 2. Ligi iÃ§inde AB vs NÃ¦stved nereden izlenir. CanlÄ
 ± yayÄ±n ve TV programÄ±.\nhttps://streamradar.soccer/tr/match/5612725/ab-v
 s-nastved/
URL;VALUE=URI:https://streamradar.soccer/tr/match/5612725/ab-vs-nastved/
STATUS:CONFIRMED
END:VEVENT
END:VCALENDAR
