BEGIN:VCALENDAR
VERSION:2.0
PRODID:-//StreamRadar//Match Calendar//EN
CALSCALE:GREGORIAN
METHOD:PUBLISH
X-WR-CALNAME:Chayka vs Torpedo Moskva
X-WR-TIMEZONE:America/New_York
BEGIN:VEVENT
UID:match-5612225@streamradar.soccer
SUMMARY:Chayka vs Torpedo Moskva
DTSTAMP:20260421T093039Z
DTSTART;TZID=America/New_York:20260503T100000
DTEND;TZID=America/New_York:20260503T120000
LOCATION:Chayka Central Stadium
DESCRIPTION:FNL içinde Chayka vs Torpedo Moskva nereden izlenir. Canlı ya
 yın ve TV programı.\nhttps://streamradar.soccer/tr/match/5612225/chayka-v
 s-torpedo-moskva/
URL;VALUE=URI:https://streamradar.soccer/tr/match/5612225/chayka-vs-torpedo
 -moskva/
STATUS:CONFIRMED
END:VEVENT
END:VCALENDAR
