BEGIN:VCALENDAR
VERSION:2.0
PRODID:-//StreamRadar//Match Calendar//EN
CALSCALE:GREGORIAN
METHOD:PUBLISH
X-WR-CALNAME:Lotus Băile Felix vs Viitorul Cluj
X-WR-TIMEZONE:America/New_York
BEGIN:VEVENT
UID:match-5610136@streamradar.soccer
SUMMARY:Lotus Băile Felix vs Viitorul Cluj
DTSTAMP:20260421T112436Z
DTSTART;TZID=America/New_York:20260508T110000
DTEND;TZID=America/New_York:20260508T130000
DESCRIPTION:Liga III içinde Lotus Băile Felix vs Viitorul Cluj nereden iz
 lenir. Canlı yayın ve TV programı.\nhttps://streamradar.soccer/tr/match/
 5610136/lotus-b-ile-felix-vs-viitorul-cluj/
URL;VALUE=URI:https://streamradar.soccer/tr/match/5610136/lotus-b-ile-felix
 -vs-viitorul-cluj/
STATUS:CONFIRMED
END:VEVENT
END:VCALENDAR
