BEGIN:VCALENDAR
VERSION:2.0
PRODID:-//StreamRadar//Match Calendar//EN
CALSCALE:GREGORIAN
METHOD:PUBLISH
X-WR-CALNAME:Alexandria vs Filiaşi
X-WR-TIMEZONE:America/New_York
BEGIN:VEVENT
UID:match-5610131@streamradar.soccer
SUMMARY:Alexandria vs Filiaşi
DTSTAMP:20260421T104440Z
DTSTART;TZID=America/New_York:20260508T110000
DTEND;TZID=America/New_York:20260508T130000
DESCRIPTION:Liga III içinde Alexandria vs Filiaşi nereden izlenir. Canlı
  yayın ve TV programı.\nhttps://streamradar.soccer/tr/match/5610131/alexa
 ndria-vs-filia-i/
URL;VALUE=URI:https://streamradar.soccer/tr/match/5610131/alexandria-vs-fil
 ia-i/
STATUS:CONFIRMED
END:VEVENT
END:VCALENDAR
