BEGIN:VCALENDAR
VERSION:2.0
PRODID:-//StreamRadar//Match Calendar//EN
CALSCALE:GREGORIAN
METHOD:PUBLISH
X-WR-CALNAME:Mashujaa vs Tabora United
X-WR-TIMEZONE:America/New_York
BEGIN:VEVENT
UID:match-5607995@streamradar.soccer
SUMMARY:Mashujaa vs Tabora United
DTSTAMP:20260421T084309Z
DTSTART;TZID=America/New_York:20260504T070000
DTEND;TZID=America/New_York:20260504T090000
LOCATION:Lake Tanganyika Stadium
DESCRIPTION:Tanzania Premier League içinde Mashujaa vs Tabora United nered
 en izlenir. Canlı yayın ve TV programı.\nhttps://streamradar.soccer/tr/m
 atch/5607995/mashujaa-vs-tabora-united/
URL;VALUE=URI:https://streamradar.soccer/tr/match/5607995/mashujaa-vs-tabor
 a-united/
STATUS:CONFIRMED
END:VEVENT
END:VCALENDAR
