BEGIN:VCALENDAR
VERSION:2.0
PRODID:-//StreamRadar//Match Calendar//EN
CALSCALE:GREGORIAN
METHOD:PUBLISH
X-WR-CALNAME:Parnahyba vs IAPE
X-WR-TIMEZONE:America/New_York
BEGIN:VEVENT
UID:match-5607444@streamradar.soccer
SUMMARY:Parnahyba vs IAPE
DTSTAMP:20260421T092049Z
DTSTART;TZID=America/New_York:20260503T150000
DTEND;TZID=America/New_York:20260503T170000
DESCRIPTION:Serie D içinde Parnahyba vs IAPE nereden izlenir. Canlı yayı
 n ve TV programı.\nhttps://streamradar.soccer/tr/match/5607444/parnahyba-v
 s-iape/
URL;VALUE=URI:https://streamradar.soccer/tr/match/5607444/parnahyba-vs-iape
 /
STATUS:CONFIRMED
END:VEVENT
END:VCALENDAR
