BEGIN:VCALENDAR
VERSION:2.0
PRODID:-//StreamRadar//Match Calendar//EN
CALSCALE:GREGORIAN
METHOD:PUBLISH
X-WR-CALNAME:Atlético Alagoinhas vs ASA
X-WR-TIMEZONE:America/New_York
BEGIN:VEVENT
UID:match-5607437@streamradar.soccer
SUMMARY:Atlético Alagoinhas vs ASA
DTSTAMP:20260421T092049Z
DTSTART;TZID=America/New_York:20260503T150000
DTEND;TZID=America/New_York:20260503T170000
LOCATION:Carneiro
DESCRIPTION:Serie D içinde Atlético Alagoinhas vs ASA nereden izlenir. Ca
 nlı yayın ve TV programı.\nhttps://streamradar.soccer/tr/match/5607437/a
 tletico-alagoinhas-vs-asa/
URL;VALUE=URI:https://streamradar.soccer/tr/match/5607437/atletico-alagoinh
 as-vs-asa/
STATUS:CONFIRMED
END:VEVENT
END:VCALENDAR
