BEGIN:VCALENDAR
VERSION:2.0
PRODID:-//StreamRadar//Match Calendar//EN
CALSCALE:GREGORIAN
METHOD:PUBLISH
X-WR-CALNAME:San-Pédro vs Bouaké
X-WR-TIMEZONE:America/New_York
BEGIN:VEVENT
UID:match-5607383@streamradar.soccer
SUMMARY:San-Pédro vs Bouaké
DTSTAMP:20260422T005753Z
DTSTART;TZID=America/New_York:20260405T120000
DTEND;TZID=America/New_York:20260405T140000
LOCATION:Stade Auguste Denise (San Pédro)
DESCRIPTION:Fildişi Sahili Premier Ligi içinde San-Pédro vs Bouaké nere
 den izlenir. Canlı yayın ve TV programı.\nhttps://streamradar.soccer/tr/
 match/5607383/san-pedro-vs-bouake/
URL;VALUE=URI:https://streamradar.soccer/tr/match/5607383/san-pedro-vs-boua
 ke/
STATUS:CONFIRMED
END:VEVENT
END:VCALENDAR
