BEGIN:VCALENDAR
VERSION:2.0
PRODID:-//StreamRadar//Match Calendar//EN
CALSCALE:GREGORIAN
METHOD:PUBLISH
X-WR-CALNAME:KongahÃ¤lla vs Astrio
X-WR-TIMEZONE:America/New_York
BEGIN:VEVENT
UID:match-5567077@streamradar.soccer
SUMMARY:KongahÃ¤lla vs Astrio
DTSTAMP:20260422T193827Z
DTSTART;TZID=America/New_York:20260912T080000
DTEND;TZID=America/New_York:20260912T100000
DESCRIPTION:Superettan iÃ§inde KongahÃ¤lla vs Astrio nereden izlenir. CanlÄ
 ± yayÄ±n ve TV programÄ±.\nhttps://streamradar.soccer/tr/match/5567077/kong
 ahalla-vs-astrio/
URL;VALUE=URI:https://streamradar.soccer/tr/match/5567077/kongahalla-vs-ast
 rio/
STATUS:CONFIRMED
END:VEVENT
END:VCALENDAR
