BEGIN:VCALENDAR
VERSION:2.0
PRODID:-//StreamRadar//Match Calendar//EN
CALSCALE:GREGORIAN
METHOD:PUBLISH
X-WR-CALNAME:Sleipner vs Nacka Iliria
X-WR-TIMEZONE:America/New_York
BEGIN:VEVENT
UID:match-5566897@streamradar.soccer
SUMMARY:Sleipner vs Nacka Iliria
DTSTAMP:20260421T161700Z
DTSTART;TZID=America/New_York:20260913T100000
DTEND;TZID=America/New_York:20260913T120000
DESCRIPTION:Superettan içinde Sleipner vs Nacka Iliria nereden izlenir. Ca
 nlı yayın ve TV programı.\nhttps://streamradar.soccer/tr/match/5566897/s
 leipner-vs-nacka-iliria/
URL;VALUE=URI:https://streamradar.soccer/tr/match/5566897/sleipner-vs-nacka
 -iliria/
STATUS:CONFIRMED
END:VEVENT
END:VCALENDAR
