BEGIN:VCALENDAR
VERSION:2.0
PRODID:-//StreamRadar//Match Calendar//EN
CALSCALE:GREGORIAN
METHOD:PUBLISH
X-WR-CALNAME:Toronto II vs FC Cincinnati II
X-WR-TIMEZONE:America/New_York
BEGIN:VEVENT
UID:match-5565948@streamradar.soccer
SUMMARY:Toronto II vs FC Cincinnati II
DTSTAMP:20260421T165148Z
DTSTART;TZID=America/New_York:20260904T190000
DTEND;TZID=America/New_York:20260904T210000
LOCATION:York Lions Stadium
DESCRIPTION:MLS Next Pro içinde Toronto II vs FC Cincinnati II nereden izl
 enir. Canlı yayın ve TV programı.\nhttps://streamradar.soccer/tr/match/5
 565948/toronto-ii-vs-fc-cincinnati-ii/
URL;VALUE=URI:https://streamradar.soccer/tr/match/5565948/toronto-ii-vs-fc-
 cincinnati-ii/
STATUS:CONFIRMED
END:VEVENT
END:VCALENDAR
