BEGIN:VCALENDAR
VERSION:2.0
PRODID:-//StreamRadar//Match Calendar//EN
CALSCALE:GREGORIAN
METHOD:PUBLISH
X-WR-CALNAME:Flora vs Nõmme Kalju
X-WR-TIMEZONE:America/New_York
BEGIN:VEVENT
UID:match-5561660@streamradar.soccer
SUMMARY:Flora vs Nõmme Kalju
DTSTAMP:20260421T165150Z
DTSTART;TZID=America/New_York:20260904T120000
DTEND;TZID=America/New_York:20260904T140000
LOCATION:A. Le Coq Arena
DESCRIPTION:Meistriliiga içinde Flora vs Nõmme Kalju nereden izlenir. Can
 lı yayın ve TV programı.\nhttps://streamradar.soccer/tr/match/5561660/fl
 ora-vs-nomme-kalju/
URL;VALUE=URI:https://streamradar.soccer/tr/match/5561660/flora-vs-nomme-ka
 lju/
STATUS:CONFIRMED
END:VEVENT
END:VCALENDAR
