BEGIN:VCALENDAR
VERSION:2.0
PRODID:-//StreamRadar//Match Calendar//EN
CALSCALE:GREGORIAN
METHOD:PUBLISH
X-WR-CALNAME:Sogdiana vs AGMK
X-WR-TIMEZONE:America/New_York
BEGIN:VEVENT
UID:match-5561481@streamradar.soccer
SUMMARY:Sogdiana vs AGMK
DTSTAMP:20260422T005933Z
DTSTART;TZID=America/New_York:20260918T110000
DTEND;TZID=America/New_York:20260918T130000
LOCATION:Sogdiana Sport Complex
DESCRIPTION:Özbekistan Süper Ligi içinde Sogdiana vs AGMK nereden izleni
 r. Canlı yayın ve TV programı.\nhttps://streamradar.soccer/tr/match/5561
 481/sogdiana-vs-agmk/
URL;VALUE=URI:https://streamradar.soccer/tr/match/5561481/sogdiana-vs-agmk/
STATUS:CONFIRMED
END:VEVENT
END:VCALENDAR
