BEGIN:VCALENDAR
VERSION:2.0
PRODID:-//StreamRadar//Match Calendar//EN
CALSCALE:GREGORIAN
METHOD:PUBLISH
X-WR-CALNAME:Neftchi vs Surkhon
X-WR-TIMEZONE:America/New_York
BEGIN:VEVENT
UID:match-5561472@streamradar.soccer
SUMMARY:Neftchi vs Surkhon
DTSTAMP:20260421T181204Z
DTSTART;TZID=America/New_York:20260909T110000
DTEND;TZID=America/New_York:20260909T130000
LOCATION:Istiqlol Stadium
DESCRIPTION:Özbekistan Süper Ligi içinde Neftchi vs Surkhon nereden izle
 nir. Canlı yayın ve TV programı.\nhttps://streamradar.soccer/tr/match/55
 61472/neftchi-vs-surkhon/
URL;VALUE=URI:https://streamradar.soccer/tr/match/5561472/neftchi-vs-surkho
 n/
STATUS:CONFIRMED
END:VEVENT
END:VCALENDAR
