BEGIN:VCALENDAR
VERSION:2.0
PRODID:-//StreamRadar//Match Calendar//EN
CALSCALE:GREGORIAN
METHOD:PUBLISH
X-WR-CALNAME:Giravanz Kitakyushu vs Roasso Kumamoto
X-WR-TIMEZONE:America/New_York
BEGIN:VEVENT
UID:match-5561117@streamradar.soccer
SUMMARY:Giravanz Kitakyushu vs Roasso Kumamoto
DTSTAMP:20260421T185328Z
DTSTART;TZID=America/New_York:20260506T010000
DTEND;TZID=America/New_York:20260506T030000
LOCATION:Mikuni World Stadium Kitakyushu
DESCRIPTION:J2 Ligi içinde Giravanz Kitakyushu vs Roasso Kumamoto nereden 
 izlenir. Canlı yayın ve TV programı.\nhttps://streamradar.soccer/tr/matc
 h/5561117/giravanz-kitakyushu-vs-roasso-kumamoto/
URL;VALUE=URI:https://streamradar.soccer/tr/match/5561117/giravanz-kitakyus
 hu-vs-roasso-kumamoto/
STATUS:CONFIRMED
END:VEVENT
END:VCALENDAR
