BEGIN:VCALENDAR
VERSION:2.0
PRODID:-//StreamRadar//Match Calendar//EN
CALSCALE:GREGORIAN
METHOD:PUBLISH
X-WR-CALNAME:Arsenal vs UAI Urquiza
X-WR-TIMEZONE:America/New_York
BEGIN:VEVENT
UID:match-5560747@streamradar.soccer
SUMMARY:Arsenal vs UAI Urquiza
DTSTAMP:20260421T121234Z
DTSTART;TZID=America/New_York:20260912T160000
DTEND;TZID=America/New_York:20260912T180000
LOCATION:Estadio Julio Humberto Grondona
DESCRIPTION:Primera B Metropolitana içinde Arsenal vs UAI Urquiza nereden 
 izlenir. Canlı yayın ve TV programı.\nhttps://streamradar.soccer/tr/matc
 h/5560747/arsenal-vs-uai-urquiza/
URL;VALUE=URI:https://streamradar.soccer/tr/match/5560747/arsenal-vs-uai-ur
 quiza/
STATUS:CONFIRMED
END:VEVENT
END:VCALENDAR
