BEGIN:VCALENDAR
VERSION:2.0
PRODID:-//StreamRadar//Match Calendar//EN
CALSCALE:GREGORIAN
METHOD:PUBLISH
X-WR-CALNAME:Fortaleza vs AvaÃ­
X-WR-TIMEZONE:America/New_York
BEGIN:VEVENT
UID:match-5559547@streamradar.soccer
SUMMARY:Fortaleza vs AvaÃ­
DTSTAMP:20260421T164944Z
DTSTART;TZID=America/New_York:20260909T150000
DTEND;TZID=America/New_York:20260909T170000
DESCRIPTION:Serie B iÃ§inde Fortaleza vs AvaÃ­ nereden izlenir. CanlÄ± yayÄ
 ±n ve TV programÄ±.\nhttps://streamradar.soccer/tr/match/5559547/fortaleza-
 vs-avai/
URL;VALUE=URI:https://streamradar.soccer/tr/match/5559547/fortaleza-vs-avai
 /
STATUS:CONFIRMED
END:VEVENT
END:VCALENDAR
