BEGIN:VCALENDAR
VERSION:2.0
PRODID:-//StreamRadar//Match Calendar//EN
CALSCALE:GREGORIAN
METHOD:PUBLISH
X-WR-CALNAME:Londrina vs OperÃ¡rio PR
X-WR-TIMEZONE:America/New_York
BEGIN:VEVENT
UID:match-5559538@streamradar.soccer
SUMMARY:Londrina vs OperÃ¡rio PR
DTSTAMP:20260421T165112Z
DTSTART;TZID=America/New_York:20260905T150000
DTEND;TZID=America/New_York:20260905T170000
DESCRIPTION:Serie B iÃ§inde Londrina vs OperÃ¡rio PR nereden izlenir. CanlÄ
 ± yayÄ±n ve TV programÄ±.\nhttps://streamradar.soccer/tr/match/5559538/lond
 rina-vs-operario-pr/
URL;VALUE=URI:https://streamradar.soccer/tr/match/5559538/londrina-vs-opera
 rio-pr/
STATUS:CONFIRMED
END:VEVENT
END:VCALENDAR
