BEGIN:VCALENDAR
VERSION:2.0
PRODID:-//StreamRadar//Match Calendar//EN
CALSCALE:GREGORIAN
METHOD:PUBLISH
X-WR-CALNAME:Lewes vs Billericay Town
X-WR-TIMEZONE:America/New_York
BEGIN:VEVENT
UID:match-5558217@streamradar.soccer
SUMMARY:Lewes vs Billericay Town
DTSTAMP:20260423T071225Z
DTSTART;TZID=America/New_York:20260303T144500
DTEND;TZID=America/New_York:20260303T164500
LOCATION:The Dripping Pan (Lewes\, East Sussex)
DESCRIPTION:Non League Premier içinde Lewes vs Billericay Town nereden izl
 enir. Canlı yayın ve TV programı.\nhttps://streamradar.soccer/tr/match/5
 558217/lewes-vs-billericay-town/
URL;VALUE=URI:https://streamradar.soccer/tr/match/5558217/lewes-vs-billeric
 ay-town/
STATUS:CONFIRMED
END:VEVENT
END:VCALENDAR
