BEGIN:VCALENDAR
VERSION:2.0
PRODID:-//StreamRadar//Match Calendar//EN
CALSCALE:GREGORIAN
METHOD:PUBLISH
X-WR-CALNAME:Enköping vs IF Karlstad
X-WR-TIMEZONE:America/New_York
BEGIN:VEVENT
UID:match-5534519@streamradar.soccer
SUMMARY:Enköping vs IF Karlstad
DTSTAMP:20260422T042047Z
DTSTART;TZID=America/New_York:20260919T100000
DTEND;TZID=America/New_York:20260919T120000
LOCATION:Enavallen C-plan
DESCRIPTION:Ettan içinde Enköping vs IF Karlstad nereden izlenir. Canlı 
 yayın ve TV programı.\nhttps://streamradar.soccer/tr/match/5534519/enkopi
 ng-vs-if-karlstad/
URL;VALUE=URI:https://streamradar.soccer/tr/match/5534519/enkoping-vs-if-ka
 rlstad/
STATUS:CONFIRMED
END:VEVENT
END:VCALENDAR
