BEGIN:VCALENDAR
VERSION:2.0
PRODID:-//StreamRadar//Match Calendar//EN
CALSCALE:GREGORIAN
METHOD:PUBLISH
X-WR-CALNAME:Ullensaker / Kisa vs Levanger
X-WR-TIMEZONE:America/New_York
BEGIN:VEVENT
UID:match-5508962@streamradar.soccer
SUMMARY:Ullensaker / Kisa vs Levanger
DTSTAMP:20260421T104131Z
DTSTART;TZID=America/New_York:20260906T090000
DTEND;TZID=America/New_York:20260906T110000
LOCATION:Jessheim Stadion
DESCRIPTION:2. Divisjon içinde Ullensaker / Kisa vs Levanger nereden izlen
 ir. Canlı yayın ve TV programı.\nhttps://streamradar.soccer/tr/match/550
 8962/ullensaker-kisa-vs-levanger/
URL;VALUE=URI:https://streamradar.soccer/tr/match/5508962/ullensaker-kisa-v
 s-levanger/
STATUS:CONFIRMED
END:VEVENT
END:VCALENDAR
