BEGIN:VCALENDAR
VERSION:2.0
PRODID:-//StreamRadar//Match Calendar//EN
CALSCALE:GREGORIAN
METHOD:PUBLISH
X-WR-CALNAME:Sandviken vs Vidar
X-WR-TIMEZONE:America/New_York
BEGIN:VEVENT
UID:match-5508794@streamradar.soccer
SUMMARY:Sandviken vs Vidar
DTSTAMP:20260422T052758Z
DTSTART;TZID=America/New_York:20260919T090000
DTEND;TZID=America/New_York:20260919T110000
DESCRIPTION:2. Divisjon içinde Sandviken vs Vidar nereden izlenir. Canlı 
 yayın ve TV programı.\nhttps://streamradar.soccer/tr/match/5508794/sandvi
 ken-vs-vidar/
URL;VALUE=URI:https://streamradar.soccer/tr/match/5508794/sandviken-vs-vida
 r/
STATUS:CONFIRMED
END:VEVENT
END:VCALENDAR
