BEGIN:VCALENDAR
VERSION:2.0
PRODID:-//StreamRadar//Match Calendar//EN
CALSCALE:GREGORIAN
METHOD:PUBLISH
X-WR-CALNAME:Kongsvinger vs HÃ¸dd
X-WR-TIMEZONE:America/New_York
BEGIN:VEVENT
UID:match-5507623@streamradar.soccer
SUMMARY:Kongsvinger vs HÃ¸dd
DTSTAMP:20260425T174331Z
DTSTART;TZID=America/New_York:20260920T110000
DTEND;TZID=America/New_York:20260920T130000
LOCATION:Gjemselund Stadion
DESCRIPTION:OBOS-ligaen iÃ§inde Kongsvinger vs HÃ¸dd nereden izlenir. CanlÄ
 ± yayÄ±n ve TV programÄ±.\nhttps://streamradar.soccer/tr/match/5507623/kong
 svinger-vs-hodd/
URL;VALUE=URI:https://streamradar.soccer/tr/match/5507623/kongsvinger-vs-ho
 dd/
STATUS:CONFIRMED
END:VEVENT
END:VCALENDAR
