BEGIN:VCALENDAR
VERSION:2.0
PRODID:-//StreamRadar//Match Calendar//EN
CALSCALE:GREGORIAN
METHOD:PUBLISH
X-WR-CALNAME:StrÃ¸mmen vs StabÃ¦k
X-WR-TIMEZONE:America/New_York
BEGIN:VEVENT
UID:match-5507540@streamradar.soccer
SUMMARY:StrÃ¸mmen vs StabÃ¦k
DTSTAMP:20260422T193801Z
DTSTART;TZID=America/New_York:20260621T110000
DTEND;TZID=America/New_York:20260621T130000
DESCRIPTION:OBOS-ligaen iÃ§inde StrÃ¸mmen vs StabÃ¦k nereden izlenir. CanlÄ
 ± yayÄ±n ve TV programÄ±.\nhttps://streamradar.soccer/tr/match/5507540/strm
 men-vs-stabk/
URL;VALUE=URI:https://streamradar.soccer/tr/match/5507540/strmmen-vs-stabk/
STATUS:CONFIRMED
END:VEVENT
END:VCALENDAR
