BEGIN:VCALENDAR
VERSION:2.0
PRODID:-//StreamRadar//Match Calendar//EN
CALSCALE:GREGORIAN
METHOD:PUBLISH
X-WR-CALNAME:Viking vs Lillestrøm
X-WR-TIMEZONE:America/New_York
BEGIN:VEVENT
UID:match-5506742@streamradar.soccer
SUMMARY:Viking vs Lillestrøm
DTSTAMP:20260425T174342Z
DTSTART;TZID=America/New_York:20260920T110000
DTEND;TZID=America/New_York:20260920T130000
LOCATION:Lyse Arena
DESCRIPTION:Eliteserien içinde Viking vs Lillestrøm nereden izlenir. Canl
 ı yayın ve TV programı.\nhttps://streamradar.soccer/tr/match/5506742/vik
 ing-vs-lillestrom/
URL;VALUE=URI:https://streamradar.soccer/tr/match/5506742/viking-vs-lillest
 rom/
STATUS:CONFIRMED
END:VEVENT
END:VCALENDAR
