BEGIN:VCALENDAR
VERSION:2.0
PRODID:-//StreamRadar//Match Calendar//EN
CALSCALE:GREGORIAN
METHOD:PUBLISH
X-WR-CALNAME:Kristiansund vs Rosenborg
X-WR-TIMEZONE:America/New_York
BEGIN:VEVENT
UID:match-5506736@streamradar.soccer
SUMMARY:Kristiansund vs Rosenborg
DTSTAMP:20260423T175412Z
DTSTART;TZID=America/New_York:20260920T110000
DTEND;TZID=America/New_York:20260920T130000
LOCATION:Kristiansund Stadion
DESCRIPTION:Eliteserien içinde Kristiansund vs Rosenborg nereden izlenir. 
 Canlı yayın ve TV programı.\nhttps://streamradar.soccer/tr/match/5506736
 /kristiansund-vs-rosenborg/
URL;VALUE=URI:https://streamradar.soccer/tr/match/5506736/kristiansund-vs-r
 osenborg/
STATUS:CONFIRMED
END:VEVENT
END:VCALENDAR
