BEGIN:VCALENDAR
VERSION:2.0
PRODID:-//StreamRadar//Match Calendar//EN
CALSCALE:GREGORIAN
METHOD:PUBLISH
X-WR-CALNAME:Rosenborg vs TromsÃ¸
X-WR-TIMEZONE:America/New_York
BEGIN:VEVENT
UID:match-5506732@streamradar.soccer
SUMMARY:Rosenborg vs TromsÃ¸
DTSTAMP:20260421T095802Z
DTSTART;TZID=America/New_York:20260913T110000
DTEND;TZID=America/New_York:20260913T130000
LOCATION:Lerkendal Stadion
DESCRIPTION:Eliteserien iÃ§inde Rosenborg vs TromsÃ¸ nereden izlenir. CanlÄ
 ± yayÄ±n ve TV programÄ±.\nhttps://streamradar.soccer/tr/match/5506732/rose
 nborg-vs-tromso/
URL;VALUE=URI:https://streamradar.soccer/tr/match/5506732/rosenborg-vs-trom
 so/
STATUS:CONFIRMED
END:VEVENT
END:VCALENDAR
