BEGIN:VCALENDAR
VERSION:2.0
PRODID:-//StreamRadar//Match Calendar//EN
CALSCALE:GREGORIAN
METHOD:PUBLISH
X-WR-CALNAME:Brann vs LillestrÃ¸m
X-WR-TIMEZONE:America/New_York
BEGIN:VEVENT
UID:match-5506720@streamradar.soccer
SUMMARY:Brann vs LillestrÃ¸m
DTSTAMP:20260421T095813Z
DTSTART;TZID=America/New_York:20260906T110000
DTEND;TZID=America/New_York:20260906T130000
LOCATION:Brann Stadion
DESCRIPTION:Eliteserien iÃ§inde Brann vs LillestrÃ¸m nereden izlenir. CanlÄ
 ± yayÄ±n ve TV programÄ±.\nhttps://streamradar.soccer/tr/match/5506720/bran
 n-vs-lillestrom/
URL;VALUE=URI:https://streamradar.soccer/tr/match/5506720/brann-vs-lillestr
 om/
STATUS:CONFIRMED
END:VEVENT
END:VCALENDAR
