BEGIN:VCALENDAR
VERSION:2.0
PRODID:-//StreamRadar//Match Calendar//EN
CALSCALE:GREGORIAN
METHOD:PUBLISH
X-WR-CALNAME:Phoenix Rising vs El Paso Locomotive
X-WR-TIMEZONE:America/New_York
BEGIN:VEVENT
UID:match-5505614@streamradar.soccer
SUMMARY:Phoenix Rising vs El Paso Locomotive
DTSTAMP:20260425T174324Z
DTSTART;TZID=America/New_York:20260919T220000
DTEND;TZID=America/New_York:20260920T000000
LOCATION:Wild Horse Pass Stadium
DESCRIPTION:USL Championship içinde Phoenix Rising vs El Paso Locomotive n
 ereden izlenir. Canlı yayın ve TV programı.\nhttps://streamradar.soccer/
 tr/match/5505614/phoenix-rising-vs-el-paso-locomotive/
URL;VALUE=URI:https://streamradar.soccer/tr/match/5505614/phoenix-rising-vs
 -el-paso-locomotive/
STATUS:CONFIRMED
END:VEVENT
END:VCALENDAR
