BEGIN:VCALENDAR
VERSION:2.0
PRODID:-//StreamRadar//Match Calendar//EN
CALSCALE:GREGORIAN
METHOD:PUBLISH
X-WR-CALNAME:Toronto FC vs Chicago Fire
X-WR-TIMEZONE:America/New_York
BEGIN:VEVENT
UID:match-5505138@streamradar.soccer
SUMMARY:Toronto FC vs Chicago Fire
DTSTAMP:20260425T115908Z
DTSTART;TZID=America/New_York:20260905T193000
DTEND;TZID=America/New_York:20260905T213000
LOCATION:BMO Field
DESCRIPTION:Major League Soccer içinde Toronto FC vs Chicago Fire nereden 
 izlenir. Canlı yayın ve TV programı.\nhttps://streamradar.soccer/tr/matc
 h/5505138/toronto-fc-vs-chicago-fire/
URL;VALUE=URI:https://streamradar.soccer/tr/match/5505138/toronto-fc-vs-chi
 cago-fire/
STATUS:CONFIRMED
END:VEVENT
END:VCALENDAR
